BEGIN:VCALENDAR
VERSION:2.0
PRODID:spatie/icalendar-generator
DESCRIPTION:Veranstaltungen von Freiwillige Feuerwehr Brandenburg
X-WR-CALDESC:Veranstaltungen von Freiwillige Feuerwehr Brandenburg
REFRESH-INTERVAL;VALUE=DURATION:PT1440M
X-PUBLISHED-TTL:PT1440M
BEGIN:VTIMEZONE
TZID:Europe/Berlin
BEGIN:STANDARD
DTSTART:20221030T030000Z
TZOFFSETFROM:+0200
TZOFFSETTO:+0100
END:STANDARD
BEGIN:DAYLIGHT
DTSTART:20230326T020000Z
TZOFFSETFROM:+0100
TZOFFSETTO:+0200
END:DAYLIGHT
END:VTIMEZONE
BEGIN:VTIMEZONE
TZID:UTC
BEGIN:STANDARD
DTSTART:20250723T225616Z
TZOFFSETFROM:+0000
TZOFFSETTO:+0000
END:STANDARD
END:VTIMEZONE
BEGIN:VEVENT
UID:53-7
DTSTAMP:20260419T225616Z
SUMMARY:BF-Ausbildung (Neubert)
LOCATION:Schulungsraum FF
ORGANIZER;CN=dod-brb:MAILTO:danielbucko75@gmail.com
DTSTART;TZID=Europe/Berlin:20230304T060000
DTEND;TZID=Europe/Berlin:20230304T160000
X-ALT-DESC;FMTTYPE=TEXT/HTML:
CATEGORIES:General
URL;VALUE=URI:https://www.freiwillige-feuerwehr-brandenburg.de/mc-events/bf
 -ausbildung-neubert-2/
METHOD:PUBLISH
END:VEVENT
END:VCALENDAR