BEGIN:VCALENDAR
VERSION:2.0
PRODID:spatie/icalendar-generator
DESCRIPTION:Veranstaltungen von Freiwillige Feuerwehr Brandenburg
X-WR-CALDESC:Veranstaltungen von Freiwillige Feuerwehr Brandenburg
REFRESH-INTERVAL;VALUE=DURATION:PT1440M
X-PUBLISHED-TTL:PT1440M
BEGIN:VTIMEZONE
TZID:Europe/Berlin
BEGIN:DAYLIGHT
DTSTART:20260329T020000Z
TZOFFSETFROM:+0100
TZOFFSETTO:+0200
END:DAYLIGHT
BEGIN:STANDARD
DTSTART:20261025T030000Z
TZOFFSETFROM:+0200
TZOFFSETTO:+0100
END:STANDARD
END:VTIMEZONE
BEGIN:VTIMEZONE
TZID:UTC
BEGIN:STANDARD
DTSTART:20250728T221851Z
TZOFFSETFROM:+0000
TZOFFSETTO:+0000
END:STANDARD
END:VTIMEZONE
BEGIN:VEVENT
UID:819-139
DTSTAMP:20260424T221851Z
SUMMARY:Schulung NotSan (Hochstadter)
LOCATION:Schulungsraum FF
ORGANIZER;CN=dod-brb:MAILTO:danielbucko75@gmail.com
DTSTART;TZID=Europe/Berlin:20260827T090000
DTEND;TZID=Europe/Berlin:20260827T130000
X-ALT-DESC;FMTTYPE=TEXT/HTML:
CATEGORIES:General
URL;VALUE=URI:https://www.freiwillige-feuerwehr-brandenburg.de/mc-events/sc
 hulung-notsan-hochstadter-5/
METHOD:PUBLISH
END:VEVENT
END:VCALENDAR