BEGIN:VCALENDAR
VERSION:2.0
PRODID:spatie/icalendar-generator
DESCRIPTION:Veranstaltungen von Freiwillige Feuerwehr Brandenburg
X-WR-CALDESC:Veranstaltungen von Freiwillige Feuerwehr Brandenburg
REFRESH-INTERVAL;VALUE=DURATION:PT1440M
X-PUBLISHED-TTL:PT1440M
BEGIN:VTIMEZONE
TZID:Europe/Berlin
BEGIN:DAYLIGHT
DTSTART:20230326T020000Z
TZOFFSETFROM:+0100
TZOFFSETTO:+0200
END:DAYLIGHT
BEGIN:STANDARD
DTSTART:20231029T030000Z
TZOFFSETFROM:+0200
TZOFFSETTO:+0100
END:STANDARD
END:VTIMEZONE
BEGIN:VTIMEZONE
TZID:UTC
BEGIN:STANDARD
DTSTART:20250730T002100Z
TZOFFSETFROM:+0000
TZOFFSETTO:+0000
END:STANDARD
END:VTIMEZONE
BEGIN:VEVENT
UID:112-63
DTSTAMP:20260426T002100Z
SUMMARY:Hänig
LOCATION:Schulungsraum FF
ORGANIZER;CN=dod-brb:MAILTO:danielbucko75@gmail.com
DTSTART;TZID=Europe/Berlin:20230919T100000
DTEND;TZID=Europe/Berlin:20230919T230000
X-ALT-DESC;FMTTYPE=TEXT/HTML:
CATEGORIES:General
URL;VALUE=URI:https://www.freiwillige-feuerwehr-brandenburg.de/mc-events/ha
 enig-2/
METHOD:PUBLISH
END:VEVENT
END:VCALENDAR